BEGIN:VCALENDAR
VERSION:2.0
PRODID:-//Kirkebjerg Køreskole ApS - ECPv6.9.0//NONSGML v1.0//EN
CALSCALE:GREGORIAN
METHOD:PUBLISH
X-ORIGINAL-URL:https://xn--kirkebjergkreskole-q4b.dk
X-WR-CALDESC:Begivenheder for Kirkebjerg Køreskole ApS
REFRESH-INTERVAL;VALUE=DURATION:PT1H
X-Robots-Tag:noindex
X-PUBLISHED-TTL:PT1H
BEGIN:VTIMEZONE
TZID:Europe/Copenhagen
BEGIN:DAYLIGHT
TZOFFSETFROM:+0100
TZOFFSETTO:+0200
TZNAME:CEST
DTSTART:20260329T010000
END:DAYLIGHT
BEGIN:STANDARD
TZOFFSETFROM:+0200
TZOFFSETTO:+0100
TZNAME:CET
DTSTART:20261025T010000
END:STANDARD
END:VTIMEZONE
BEGIN:VEVENT
DTSTART;TZID=Europe/Copenhagen:20260504T170000
DTEND;TZID=Europe/Copenhagen:20260504T180000
DTSTAMP:20260426T003528
CREATED:20260114T180509Z
LAST-MODIFIED:20260114T180509Z
UID:10000852-1777914000-1777917600@xn--kirkebjergkreskole-q4b.dk
SUMMARY:Holdstart - Mandagshold
DESCRIPTION:Holdstart \nIntroduktion af forløb og teorilektion \nHvem er vi og hvad står vi for? \nHvad kræves der for at få et kørekort? \nHvordan arbejder køreskolen? \nTeori: \n10.1 Betingelser for at få kørekort \n10.2 Køreprøvens gennemførelse \n10.3 Lovbestemmelser om kørekort
URL:https://xn--kirkebjergkreskole-q4b.dk/kalender/holdstart-mandagshold-36/
CATEGORIES:Holdstart
END:VEVENT
BEGIN:VEVENT
DTSTART;TZID=Europe/Copenhagen:20260504T181500
DTEND;TZID=Europe/Copenhagen:20260504T211500
DTSTAMP:20260426T003528
CREATED:20260114T180136Z
LAST-MODIFIED:20260114T180136Z
UID:10000833-1777918500-1777929300@xn--kirkebjergkreskole-q4b.dk
SUMMARY:Teori 9 - Mandagshold
DESCRIPTION:Teori 9 lektion 46\, 47 og 48 (3x 45 min = 135 min.) \n8 Særlige risikoforhold i trafikken\n8.1 Særlige risikoforhold (Alkohol\, narkotika og hastighed som ulykkes og skadesfaktor)\n8.2 Egne holdninger og adfærd \n9 Manøvrer på køreteknisk anlæg\n9.1 Vejgreb og belægning\n9.2 Hastighed\, centrifugalkraft\, bremselængde og vejgrebets udnyttelse\n9.3 Hindringer på vejen og slalom\n9.4 Genvinding af vejgreb efter udskridning\n9.5 Bevar herredømmet efter kørsel ud over høj vejkant \n10 Betingelser for at få kørekort\n10.1 Betingelser for at få kørekort. (rep)\n10.2 Køreprøvens gennemførelse\n10.3 Lovbestemmelser om kørekort \nEVALUERENDE TEORIPRØVE
URL:https://xn--kirkebjergkreskole-q4b.dk/kalender/teori-9-mandagshold-24/
CATEGORIES:Teori 9 - mandagshold
END:VEVENT
BEGIN:VEVENT
DTSTART;TZID=Europe/Copenhagen:20260506T181500
DTEND;TZID=Europe/Copenhagen:20260506T211500
DTSTAMP:20260426T003528
CREATED:20260114T173912Z
LAST-MODIFIED:20260114T173912Z
UID:10000741-1778091300-1778102100@xn--kirkebjergkreskole-q4b.dk
SUMMARY:Teori 3 - Onsdagshold
DESCRIPTION:Teori 3 lektion 13\, 14\, 15 og 16 (4 x 45 = 180 min) \nGrundregler for bilkørsel\n6.1  Færdselslovens gyldighed \nAnvisninger for kørslen\n6.2  Passagerer og gods mv.\nMotorstop og slæbning\nFærdselsulykke\nForsikringspligt\nGrundregler for færdslen\nFare\, ulempe og unødig ulempe\nSignalgivning og brug af lys\nFri passage for bestemte trafikarter \nEVALUERENDE EMNEPRØVE \nManøvrer på vej\n7.1  Igangsætning og standsning ved kørebanekant\n7.2  Placering under ligeud kørsel\n7.3  Hastighed under ligeud kørsel\n7.4  Vognbaneskift og sammenfletning\n7.5  Vending
URL:https://xn--kirkebjergkreskole-q4b.dk/kalender/teori-3-onsdagshold-24/
CATEGORIES:Teori 3 - Onsdagshold
END:VEVENT
BEGIN:VEVENT
DTSTART;TZID=Europe/Copenhagen:20260507T170000
DTEND;TZID=Europe/Copenhagen:20260507T180000
DTSTAMP:20260426T003528
CREATED:20260114T190622Z
LAST-MODIFIED:20260114T191100Z
UID:10000894-1778173200-1778176800@xn--kirkebjergkreskole-q4b.dk
SUMMARY:prøveteori
DESCRIPTION:Kom og øv dig til teoriprøven \nVi laver 2 prøver\, som en kørelærer gennemgår vedr. fejl og spørgsmål
URL:https://xn--kirkebjergkreskole-q4b.dk/kalender/proeveteori-25/2026-05-07/
CATEGORIES:prøveteori
END:VEVENT
BEGIN:VEVENT
DTSTART;TZID=Europe/Copenhagen:20260507T181500
DTEND;TZID=Europe/Copenhagen:20260507T211500
DTSTAMP:20260426T003528
CREATED:20260114T175331Z
LAST-MODIFIED:20260114T175331Z
UID:10000789-1778177700-1778188500@xn--kirkebjergkreskole-q4b.dk
SUMMARY:Teori 6 - Torsdagshold
DESCRIPTION:Teori 6 lektion 29\, 30 og 31 (3 x 45 = 135 min) \nManøvrer på vej\n7.11 Fremkørsel mod vejkryds (rep)\n7.12 Ligeud kørsel i vejkryds (rep)\n7.13 Højresving i vejkryds (rep)\n7.14 Venstresving i kryds (rep)\n7.15 Kørsel i rundkørsel \nEVALUERENDE TEORIPRØVE
URL:https://xn--kirkebjergkreskole-q4b.dk/kalender/teori-6-torsdagshold-25/
CATEGORIES:Teori 6 - torsdagshold
END:VEVENT
BEGIN:VEVENT
DTSTART;TZID=Europe/Copenhagen:20260511T170000
DTEND;TZID=Europe/Copenhagen:20260511T180000
DTSTAMP:20260426T003528
CREATED:20260114T180509Z
LAST-MODIFIED:20260114T180509Z
UID:10000853-1778518800-1778522400@xn--kirkebjergkreskole-q4b.dk
SUMMARY:Holdstart - Mandagshold
DESCRIPTION:Holdstart \nIntroduktion af forløb og teorilektion \nHvem er vi og hvad står vi for? \nHvad kræves der for at få et kørekort? \nHvordan arbejder køreskolen? \nTeori: \n10.1 Betingelser for at få kørekort \n10.2 Køreprøvens gennemførelse \n10.3 Lovbestemmelser om kørekort
URL:https://xn--kirkebjergkreskole-q4b.dk/kalender/holdstart-mandagshold-36/
CATEGORIES:Holdstart
END:VEVENT
BEGIN:VEVENT
DTSTART;TZID=Europe/Copenhagen:20260511T181500
DTEND;TZID=Europe/Copenhagen:20260511T211500
DTSTAMP:20260426T003528
CREATED:20260114T172949Z
LAST-MODIFIED:20260114T172949Z
UID:10000708-1778523300-1778534100@xn--kirkebjergkreskole-q4b.dk
SUMMARY:Teori 1 - Mandagshold
DESCRIPTION:Teori 1 – lektion 1\, 2\, 3 \nBilens indretning\, udstyr\, betjening og dokumenter\n1.1.3 Motor\, tænding og speeder\n1.1.4 Kobling\n1.1.5 Gear\n1.1.6 Styreapparat\n1.1.7 Bremser\n1.2.1 Førerens og ejerens ansvar\n1.2.2 Styreapparat\n1.2.3 Bremser\n1.2.4 Lygter\, reflekser og horn\n1.2.5 Motor og udstødningssystem\n1.2.6 Energi- og miljørigtig kørsel\n1.2.7 Bærende dele\n1.2.8 Karrosseri\n1.2.9 Særligt udstyr\n1.2.10 Særlige køretøjer\n1.3 Køretøjets dokumenter
URL:https://xn--kirkebjergkreskole-q4b.dk/kalender/teori-1-mandagshold-23/
CATEGORIES:Teori 1 - mandagshold
END:VEVENT
BEGIN:VEVENT
DTSTART;TZID=Europe/Copenhagen:20260513T181500
DTEND;TZID=Europe/Copenhagen:20260513T211500
DTSTAMP:20260426T003528
CREATED:20260114T174227Z
LAST-MODIFIED:20260114T174227Z
UID:10000759-1778696100-1778706900@xn--kirkebjergkreskole-q4b.dk
SUMMARY:Teori 4 - Onsdagshold
DESCRIPTION:Teori 4 lektion 19\, 20\, og 21 (3 x 45 = 135 min.) \nManøvrer på vej\nRepetition af tidligere afsnit\n7.6  Kørsel forbi holdende og gående\n7.7  Møde\n7.8  Kørsel foran og bagved andre\n7.9  Overhaling\n7.10 Kørsel i trafiksanerede områder \nEVALUERENDE TEORIPRØVE
URL:https://xn--kirkebjergkreskole-q4b.dk/kalender/teori-4-onsdagshold-23/
CATEGORIES:Teori 4 - Onsdagshold
END:VEVENT
BEGIN:VEVENT
DTSTART;TZID=Europe/Copenhagen:20260514T170000
DTEND;TZID=Europe/Copenhagen:20260514T180000
DTSTAMP:20260426T003528
CREATED:20260114T190622Z
LAST-MODIFIED:20260114T191100Z
UID:10000895-1778778000-1778781600@xn--kirkebjergkreskole-q4b.dk
SUMMARY:prøveteori
DESCRIPTION:Kom og øv dig til teoriprøven \nVi laver 2 prøver\, som en kørelærer gennemgår vedr. fejl og spørgsmål
URL:https://xn--kirkebjergkreskole-q4b.dk/kalender/proeveteori-25/2026-05-14/
CATEGORIES:prøveteori
END:VEVENT
BEGIN:VEVENT
DTSTART;TZID=Europe/Copenhagen:20260514T181500
DTEND;TZID=Europe/Copenhagen:20260514T211500
DTSTAMP:20260426T003528
CREATED:20260114T175608Z
LAST-MODIFIED:20260114T175608Z
UID:10000806-1778782500-1778793300@xn--kirkebjergkreskole-q4b.dk
SUMMARY:Teori 7 - Torsdagshold
DESCRIPTION:Teori 7 lektion 34\, 35\, og 36 (3 x 45 = 135 min) \nManøvrer på vej\n7.9 Overhaling (rep)\n7.16 Kørsel på Motorvej (og motortrafikvej)\n7.17 Kørsel ved siden af andre \nEVALUERENDE TEORIPRØVE
URL:https://xn--kirkebjergkreskole-q4b.dk/kalender/teori-7-torsdagshold-25/
CATEGORIES:Teori 7 - torsdagshold
END:VEVENT
BEGIN:VEVENT
DTSTART;TZID=Europe/Copenhagen:20260518T170000
DTEND;TZID=Europe/Copenhagen:20260518T180000
DTSTAMP:20260426T003528
CREATED:20260114T190622Z
LAST-MODIFIED:20260114T191100Z
UID:10000896-1779123600-1779127200@xn--kirkebjergkreskole-q4b.dk
SUMMARY:prøveteori
DESCRIPTION:Kom og øv dig til teoriprøven \nVi laver 2 prøver\, som en kørelærer gennemgår vedr. fejl og spørgsmål
URL:https://xn--kirkebjergkreskole-q4b.dk/kalender/proeveteori-25/2026-05-18/
CATEGORIES:prøveteori
END:VEVENT
BEGIN:VEVENT
DTSTART;TZID=Europe/Copenhagen:20260518T181500
DTEND;TZID=Europe/Copenhagen:20260518T211500
DTSTAMP:20260426T003528
CREATED:20260114T173636Z
LAST-MODIFIED:20260114T173636Z
UID:10000724-1779128100-1779138900@xn--kirkebjergkreskole-q4b.dk
SUMMARY:Teori 2- Mandagshold
DESCRIPTION:Teori 2 lektion 5\, 6\, 7 og 8 (4 x 45= 180 min.) \nKøretøjers manøvre-egenskaber\n3.1  Fartegenskaber\nStyreegenskaber\nFørerens orienteringsvilkår\n3.2  Person- og varebiler. Lastbiler\, herunder busser\nBiler med påhængskøretøj\nTraktorer\, herunder motorredskaber\nMotorcykler og stor knallert (registreringspligtig)\nLille knallert (ikke registreringspligtige) og cykler \nTrafikantadfærd\n4.1  Bilistens vigtigste opgave\nReaktionstiden\nOpfattelses- og reaktionsevnens begrænsning\nForbedring af opfattelses- og reaktionsevnen\nMobiltelefoners indvirken på reaktionsevne\n4.2  Syns- og bevægelsesretning\n4.3  Bedømmelse af afstand\nBedømmelse af egen hastighed\nBedømmelse af andres hastighed\n4.4  Alkohol og Narkotika\nSygdom\, medicin\, træthed\n4.5  Ulykker\, alder og trafikant art\nAldersbetingede vanskeligheder\n4.6  Kendetegn på alder\, opmærksomhed og hensigt\nSærligt udsatte trafikanters typiske fejl\n4.7  Holdninger\nAdfærd\nRisikoblindhed \nVejforhold\n5.1  Vejenes brug\n5.2  Risikoforhold ved vejene \nEVALUERENDE EMNEPRØVE
URL:https://xn--kirkebjergkreskole-q4b.dk/kalender/teori-2-mandagshold-24/
CATEGORIES:Teori 2 - mandagshold
END:VEVENT
BEGIN:VEVENT
DTSTART;TZID=Europe/Copenhagen:20260520T181500
DTEND;TZID=Europe/Copenhagen:20260520T211500
DTSTAMP:20260426T003528
CREATED:20260114T174900Z
LAST-MODIFIED:20260114T174900Z
UID:10000773-1779300900-1779311700@xn--kirkebjergkreskole-q4b.dk
SUMMARY:Teori 5 - Onsdagshold
DESCRIPTION:Teori 5 lektion 24\, 25 og 26 (3 x 45 = 135 min) \nManøvrer på vej\n7.11 Fremkørsel mod vejkryds\n7.12 Ligeud kørsel i vejkryds \nRepetition af tidligere emner \nEVALUERENDE EMNEPRØVE
URL:https://xn--kirkebjergkreskole-q4b.dk/kalender/teori-5-onsdagshold-24/
CATEGORIES:Teori 5 - Onsdagshold
END:VEVENT
BEGIN:VEVENT
DTSTART;TZID=Europe/Copenhagen:20260521T170000
DTEND;TZID=Europe/Copenhagen:20260521T180000
DTSTAMP:20260426T003528
CREATED:20260114T190622Z
LAST-MODIFIED:20260114T191100Z
UID:10000897-1779382800-1779386400@xn--kirkebjergkreskole-q4b.dk
SUMMARY:prøveteori
DESCRIPTION:Kom og øv dig til teoriprøven \nVi laver 2 prøver\, som en kørelærer gennemgår vedr. fejl og spørgsmål
URL:https://xn--kirkebjergkreskole-q4b.dk/kalender/proeveteori-25/2026-05-21/
CATEGORIES:prøveteori
END:VEVENT
BEGIN:VEVENT
DTSTART;TZID=Europe/Copenhagen:20260521T181500
DTEND;TZID=Europe/Copenhagen:20260521T211500
DTSTAMP:20260426T003528
CREATED:20260114T175944Z
LAST-MODIFIED:20260114T175944Z
UID:10000823-1779387300-1779398100@xn--kirkebjergkreskole-q4b.dk
SUMMARY:Teori 8 - Torsdagshold
DESCRIPTION:Teori 8 lektion 39\, 40 og 41 (3 x 45 min = 135 min.) \nManøvrer på vej\n7.18 Standsning og parkering\n7.19 Kørsel i mørke og lygtetændingstid i øvrigt\n7.20 Kørsel i tunnel\n7.21 Letbane\nRepetition af tidligere lektioner \nEVALUERENDE TEORIPRØVE
URL:https://xn--kirkebjergkreskole-q4b.dk/kalender/teori-8-torsdagshold-25/
CATEGORIES:Teori 8 - torsdagshold
END:VEVENT
BEGIN:VEVENT
DTSTART;TZID=Europe/Copenhagen:20260525T170000
DTEND;TZID=Europe/Copenhagen:20260525T180000
DTSTAMP:20260426T003528
CREATED:20260114T190622Z
LAST-MODIFIED:20260114T191100Z
UID:10000898-1779728400-1779732000@xn--kirkebjergkreskole-q4b.dk
SUMMARY:prøveteori
DESCRIPTION:Kom og øv dig til teoriprøven \nVi laver 2 prøver\, som en kørelærer gennemgår vedr. fejl og spørgsmål
URL:https://xn--kirkebjergkreskole-q4b.dk/kalender/proeveteori-25/2026-05-25/
CATEGORIES:prøveteori
END:VEVENT
BEGIN:VEVENT
DTSTART;TZID=Europe/Copenhagen:20260525T181500
DTEND;TZID=Europe/Copenhagen:20260525T211500
DTSTAMP:20260426T003528
CREATED:20260114T173958Z
LAST-MODIFIED:20260114T173958Z
UID:10000744-1779732900-1779743700@xn--kirkebjergkreskole-q4b.dk
SUMMARY:Teori 3 - Mandagshold
DESCRIPTION:Teori 3 lektion 13\, 14\, 15 og 16 (4 x 45 = 180 min) \nGrundregler for bilkørsel\n6.1  Færdselslovens gyldighed \nAnvisninger for kørslen\n6.2  Passagerer og gods mv.\nMotorstop og slæbning\nFærdselsulykke\nForsikringspligt\nGrundregler for færdslen\nFare\, ulempe og unødig ulempe\nSignalgivning og brug af lys\nFri passage for bestemte trafikarter \nEVALUERENDE EMNEPRØVE \nManøvrer på vej\n7.1  Igangsætning og standsning ved kørebanekant\n7.2  Placering under ligeud kørsel\n7.3  Hastighed under ligeud kørsel\n7.4  Vognbaneskift og sammenfletning\n7.5  Vending
URL:https://xn--kirkebjergkreskole-q4b.dk/kalender/teori-3-mandagshold-23/
CATEGORIES:Teori 3 - mandagshold
END:VEVENT
BEGIN:VEVENT
DTSTART;TZID=Europe/Copenhagen:20260527T181500
DTEND;TZID=Europe/Copenhagen:20260527T211500
DTSTAMP:20260426T003528
CREATED:20260114T175244Z
LAST-MODIFIED:20260114T175244Z
UID:10000787-1779905700-1779916500@xn--kirkebjergkreskole-q4b.dk
SUMMARY:Teori 6 - Onsdagshold
DESCRIPTION:Teori 6 lektion 29\, 30 og 31 (3 x 45 = 135 min) \nManøvrer på vej\n7.11 Fremkørsel mod vejkryds (rep)\n7.12 Ligeud kørsel i vejkryds (rep)\n7.13 Højresving i vejkryds (rep)\n7.14 Venstresving i kryds (rep)\n7.15 Kørsel i rundkørsel \nEVALUERENDE TEORIPRØVE
URL:https://xn--kirkebjergkreskole-q4b.dk/kalender/teori-6-onsdagshold-24/
CATEGORIES:Teori 6 - Onsdagshold
END:VEVENT
BEGIN:VEVENT
DTSTART;TZID=Europe/Copenhagen:20260528T170000
DTEND;TZID=Europe/Copenhagen:20260528T180000
DTSTAMP:20260426T003528
CREATED:20260114T180846Z
LAST-MODIFIED:20260114T180846Z
UID:10000863-1779987600-1779991200@xn--kirkebjergkreskole-q4b.dk
SUMMARY:Holdstart - Torsdagshold
DESCRIPTION:Holdstart \nIntroduktion af forløb og teorilektion \nHvem er vi og hvad står vi for? \nHvad kræves der for at få et kørekort? \nHvordan arbejder køreskolen? \nTeori: \n10.1 Betingelser for at få kørekort \n10.2 Køreprøvens gennemførelse \n10.3 Lovbestemmelser om kørekort
URL:https://xn--kirkebjergkreskole-q4b.dk/kalender/holdstart-torsdagshold-32/
CATEGORIES:Holdstart
END:VEVENT
BEGIN:VEVENT
DTSTART;TZID=Europe/Copenhagen:20260528T181500
DTEND;TZID=Europe/Copenhagen:20260528T211500
DTSTAMP:20260426T003528
CREATED:20260114T180303Z
LAST-MODIFIED:20260114T180303Z
UID:10000838-1779992100-1780002900@xn--kirkebjergkreskole-q4b.dk
SUMMARY:Teori 9 - Torsdagshold
DESCRIPTION:Teori 9 lektion 46\, 47 og 48 (3x 45 min = 135 min.) \n8 Særlige risikoforhold i trafikken\n8.1 Særlige risikoforhold (Alkohol\, narkotika og hastighed som ulykkes og skadesfaktor)\n8.2 Egne holdninger og adfærd \n9 Manøvrer på køreteknisk anlæg\n9.1 Vejgreb og belægning\n9.2 Hastighed\, centrifugalkraft\, bremselængde og vejgrebets udnyttelse\n9.3 Hindringer på vejen og slalom\n9.4 Genvinding af vejgreb efter udskridning\n9.5 Bevar herredømmet efter kørsel ud over høj vejkant \n10 Betingelser for at få kørekort\n10.1 Betingelser for at få kørekort. (rep)\n10.2 Køreprøvens gennemførelse\n10.3 Lovbestemmelser om kørekort \nEVALUERENDE TEORIPRØVE
URL:https://xn--kirkebjergkreskole-q4b.dk/kalender/teori-9-torsdagshold-26/
CATEGORIES:Teori 9 - torsdagshold
END:VEVENT
END:VCALENDAR