BEGIN:VCALENDAR
VERSION:2.0
PRODID:-//Kirkebjerg Køreskole ApS - ECPv6.9.0//NONSGML v1.0//EN
CALSCALE:GREGORIAN
METHOD:PUBLISH
X-ORIGINAL-URL:https://xn--kirkebjergkreskole-q4b.dk
X-WR-CALDESC:Begivenheder for Kirkebjerg Køreskole ApS
REFRESH-INTERVAL;VALUE=DURATION:PT1H
X-Robots-Tag:noindex
X-PUBLISHED-TTL:PT1H
BEGIN:VTIMEZONE
TZID:Europe/Copenhagen
BEGIN:DAYLIGHT
TZOFFSETFROM:+0100
TZOFFSETTO:+0200
TZNAME:CEST
DTSTART:20260329T010000
END:DAYLIGHT
BEGIN:STANDARD
TZOFFSETFROM:+0200
TZOFFSETTO:+0100
TZNAME:CET
DTSTART:20261025T010000
END:STANDARD
END:VTIMEZONE
BEGIN:VEVENT
DTSTART;TZID=Europe/Copenhagen:20260202T170000
DTEND;TZID=Europe/Copenhagen:20260202T180000
DTSTAMP:20260426T034516
CREATED:20260114T190622Z
LAST-MODIFIED:20260114T191100Z
UID:10000872-1770051600-1770055200@xn--kirkebjergkreskole-q4b.dk
SUMMARY:prøveteori
DESCRIPTION:Kom og øv dig til teoriprøven \nVi laver 2 prøver\, som en kørelærer gennemgår vedr. fejl og spørgsmål
URL:https://xn--kirkebjergkreskole-q4b.dk/kalender/proeveteori-25/2026-02-02/
CATEGORIES:prøveteori
END:VEVENT
BEGIN:VEVENT
DTSTART;TZID=Europe/Copenhagen:20260202T181500
DTEND;TZID=Europe/Copenhagen:20260202T211500
DTSTAMP:20260426T034516
CREATED:20260114T175157Z
LAST-MODIFIED:20260114T175157Z
UID:10000783-1770056100-1770066900@xn--kirkebjergkreskole-q4b.dk
SUMMARY:Teori 6 - Mandagshold
DESCRIPTION:Teori 6 lektion 29\, 30 og 31 (3 x 45 = 135 min) \nManøvrer på vej\n7.11 Fremkørsel mod vejkryds (rep)\n7.12 Ligeud kørsel i vejkryds (rep)\n7.13 Højresving i vejkryds (rep)\n7.14 Venstresving i kryds (rep)\n7.15 Kørsel i rundkørsel \nEVALUERENDE TEORIPRØVE
URL:https://xn--kirkebjergkreskole-q4b.dk/kalender/teori-6-mandagshold-25/
CATEGORIES:Teori 6 - mandagshold
END:VEVENT
BEGIN:VEVENT
DTSTART;TZID=Europe/Copenhagen:20260203T181500
DTEND;TZID=Europe/Copenhagen:20260203T211500
DTSTAMP:20260426T034516
CREATED:20260114T180051Z
LAST-MODIFIED:20260114T180051Z
UID:10000831-1770142500-1770153300@xn--kirkebjergkreskole-q4b.dk
SUMMARY:Teori 9 - Tirsdagshold
DESCRIPTION:Teori 9 lektion 46\, 47 og 48 (3x 45 min = 135 min.) \n8 Særlige risikoforhold i trafikken\n8.1 Særlige risikoforhold (Alkohol\, narkotika og hastighed som ulykkes og skadesfaktor)\n8.2 Egne holdninger og adfærd \n9 Manøvrer på køreteknisk anlæg\n9.1 Vejgreb og belægning\n9.2 Hastighed\, centrifugalkraft\, bremselængde og vejgrebets udnyttelse\n9.3 Hindringer på vejen og slalom\n9.4 Genvinding af vejgreb efter udskridning\n9.5 Bevar herredømmet efter kørsel ud over høj vejkant \n10 Betingelser for at få kørekort\n10.1 Betingelser for at få kørekort. (rep)\n10.2 Køreprøvens gennemførelse\n10.3 Lovbestemmelser om kørekort \nEVALUERENDE TEORIPRØVE
URL:https://xn--kirkebjergkreskole-q4b.dk/kalender/teori-9-tirsdagshold-2/
CATEGORIES:Teori 9 - tirsdagshold
END:VEVENT
BEGIN:VEVENT
DTSTART;TZID=Europe/Copenhagen:20260204T170000
DTEND;TZID=Europe/Copenhagen:20260204T180000
DTSTAMP:20260426T034516
CREATED:20260114T180651Z
LAST-MODIFIED:20260114T180651Z
UID:10000854-1770224400-1770228000@xn--kirkebjergkreskole-q4b.dk
SUMMARY:Holdstart - Onsdagshold
DESCRIPTION:Holdstart \nIntroduktion af forløb og teorilektion \nHvem er vi og hvad står vi for? \nHvad kræves der for at få et kørekort? \nHvordan arbejder køreskolen? \nTeori: \n10.1 Betingelser for at få kørekort \n10.2 Køreprøvens gennemførelse \n10.3 Lovbestemmelser om kørekort
URL:https://xn--kirkebjergkreskole-q4b.dk/kalender/holdstart-onsdagshold-32/
CATEGORIES:Holdstart
END:VEVENT
BEGIN:VEVENT
DTSTART;TZID=Europe/Copenhagen:20260205T170000
DTEND;TZID=Europe/Copenhagen:20260205T180000
DTSTAMP:20260426T034516
CREATED:20260114T190622Z
LAST-MODIFIED:20260114T191100Z
UID:10000873-1770310800-1770314400@xn--kirkebjergkreskole-q4b.dk
SUMMARY:prøveteori
DESCRIPTION:Kom og øv dig til teoriprøven \nVi laver 2 prøver\, som en kørelærer gennemgår vedr. fejl og spørgsmål
URL:https://xn--kirkebjergkreskole-q4b.dk/kalender/proeveteori-25/2026-02-05/
CATEGORIES:prøveteori
END:VEVENT
BEGIN:VEVENT
DTSTART;TZID=Europe/Copenhagen:20260205T181500
DTEND;TZID=Europe/Copenhagen:20260205T211500
DTSTAMP:20260426T034516
CREATED:20260114T173813Z
LAST-MODIFIED:20260114T173813Z
UID:10000737-1770315300-1770326100@xn--kirkebjergkreskole-q4b.dk
SUMMARY:Teori 3 - Torsdagshold
DESCRIPTION:Teori 3 lektion 13\, 14\, 15 og 16 (4 x 45 = 180 min) \nGrundregler for bilkørsel\n6.1  Færdselslovens gyldighed \nAnvisninger for kørslen\n6.2  Passagerer og gods mv.\nMotorstop og slæbning\nFærdselsulykke\nForsikringspligt\nGrundregler for færdslen\nFare\, ulempe og unødig ulempe\nSignalgivning og brug af lys\nFri passage for bestemte trafikarter \nEVALUERENDE EMNEPRØVE \nManøvrer på vej\n7.1  Igangsætning og standsning ved kørebanekant\n7.2  Placering under ligeud kørsel\n7.3  Hastighed under ligeud kørsel\n7.4  Vognbaneskift og sammenfletning\n7.5  Vending
URL:https://xn--kirkebjergkreskole-q4b.dk/kalender/teori-3-torsdagshold-28/
CATEGORIES:Teori 3 - torsdagshold
END:VEVENT
BEGIN:VEVENT
DTSTART;TZID=Europe/Copenhagen:20260209T170000
DTEND;TZID=Europe/Copenhagen:20260209T180000
DTSTAMP:20260426T034516
CREATED:20260114T190622Z
LAST-MODIFIED:20260114T191100Z
UID:10000874-1770656400-1770660000@xn--kirkebjergkreskole-q4b.dk
SUMMARY:prøveteori
DESCRIPTION:Kom og øv dig til teoriprøven \nVi laver 2 prøver\, som en kørelærer gennemgår vedr. fejl og spørgsmål
URL:https://xn--kirkebjergkreskole-q4b.dk/kalender/proeveteori-25/2026-02-09/
CATEGORIES:prøveteori
END:VEVENT
BEGIN:VEVENT
DTSTART;TZID=Europe/Copenhagen:20260209T181500
DTEND;TZID=Europe/Copenhagen:20260209T211500
DTSTAMP:20260426T034516
CREATED:20260114T175458Z
LAST-MODIFIED:20260114T175458Z
UID:10000801-1770660900-1770671700@xn--kirkebjergkreskole-q4b.dk
SUMMARY:Teori 7 - Mandagshold
DESCRIPTION:Teori 7 lektion 34\, 35\, og 36 (3 x 45 = 135 min) \nManøvrer på vej\n7.9 Overhaling (rep)\n7.16 Kørsel på Motorvej (og motortrafikvej)\n7.17 Kørsel ved siden af andre \nEVALUERENDE TEORIPRØVE
URL:https://xn--kirkebjergkreskole-q4b.dk/kalender/teori-7-mandagshold-25/
CATEGORIES:Teori 7 - mandagshold
END:VEVENT
BEGIN:VEVENT
DTSTART;TZID=Europe/Copenhagen:20260211T170000
DTEND;TZID=Europe/Copenhagen:20260211T180000
DTSTAMP:20260426T034516
CREATED:20260114T180651Z
LAST-MODIFIED:20260114T180651Z
UID:10000855-1770829200-1770832800@xn--kirkebjergkreskole-q4b.dk
SUMMARY:Holdstart - Onsdagshold
DESCRIPTION:Holdstart \nIntroduktion af forløb og teorilektion \nHvem er vi og hvad står vi for? \nHvad kræves der for at få et kørekort? \nHvordan arbejder køreskolen? \nTeori: \n10.1 Betingelser for at få kørekort \n10.2 Køreprøvens gennemførelse \n10.3 Lovbestemmelser om kørekort
URL:https://xn--kirkebjergkreskole-q4b.dk/kalender/holdstart-onsdagshold-32/
CATEGORIES:Holdstart
END:VEVENT
BEGIN:VEVENT
DTSTART;TZID=Europe/Copenhagen:20260211T181500
DTEND;TZID=Europe/Copenhagen:20260211T211500
DTSTAMP:20260426T034516
CREATED:20260114T172645Z
LAST-MODIFIED:20260114T173309Z
UID:10000705-1770833700-1770844500@xn--kirkebjergkreskole-q4b.dk
SUMMARY:Teori 1 - Onsdagshold
DESCRIPTION:Teori 1 – lektion 1\, 2\, 3 \nBilens indretning\, udstyr\, betjening og dokumenter\n1.1.3 Motor\, tænding og speeder\n1.1.4 Kobling\n1.1.5 Gear\n1.1.6 Styreapparat\n1.1.7 Bremser\n1.2.1 Førerens og ejerens ansvar\n1.2.2 Styreapparat\n1.2.3 Bremser\n1.2.4 Lygter\, reflekser og horn\n1.2.5 Motor og udstødningssystem\n1.2.6 Energi- og miljørigtig kørsel\n1.2.7 Bærende dele\n1.2.8 Karrosseri\n1.2.9 Særligt udstyr\n1.2.10 Særlige køretøjer\n1.3 Køretøjets dokumenter
URL:https://xn--kirkebjergkreskole-q4b.dk/kalender/teori-1-onsdagshold-26/
CATEGORIES:Teori 1 - Onsdagshold
END:VEVENT
BEGIN:VEVENT
DTSTART;TZID=Europe/Copenhagen:20260212T170000
DTEND;TZID=Europe/Copenhagen:20260212T180000
DTSTAMP:20260426T034516
CREATED:20260114T190622Z
LAST-MODIFIED:20260114T191100Z
UID:10000875-1770915600-1770919200@xn--kirkebjergkreskole-q4b.dk
SUMMARY:prøveteori
DESCRIPTION:Kom og øv dig til teoriprøven \nVi laver 2 prøver\, som en kørelærer gennemgår vedr. fejl og spørgsmål
URL:https://xn--kirkebjergkreskole-q4b.dk/kalender/proeveteori-25/2026-02-12/
CATEGORIES:prøveteori
END:VEVENT
BEGIN:VEVENT
DTSTART;TZID=Europe/Copenhagen:20260212T181500
DTEND;TZID=Europe/Copenhagen:20260212T211500
DTSTAMP:20260426T034516
CREATED:20260114T174314Z
LAST-MODIFIED:20260114T174314Z
UID:10000760-1770920100-1770930900@xn--kirkebjergkreskole-q4b.dk
SUMMARY:Teori 4 - Torsdagshold
DESCRIPTION:Teori 4 lektion 19\, 20\, og 21 (3 x 45 = 135 min.) \nManøvrer på vej\nRepetition af tidligere afsnit\n7.6  Kørsel forbi holdende og gående\n7.7  Møde\n7.8  Kørsel foran og bagved andre\n7.9  Overhaling\n7.10 Kørsel i trafiksanerede områder \nEVALUERENDE TEORIPRØVE
URL:https://xn--kirkebjergkreskole-q4b.dk/kalender/teori-4-torsdagshold-28/
CATEGORIES:Teori 4 - torsdagshold
END:VEVENT
BEGIN:VEVENT
DTSTART;TZID=Europe/Copenhagen:20260216T170000
DTEND;TZID=Europe/Copenhagen:20260216T180000
DTSTAMP:20260426T034516
CREATED:20260114T190622Z
LAST-MODIFIED:20260114T191100Z
UID:10000876-1771261200-1771264800@xn--kirkebjergkreskole-q4b.dk
SUMMARY:prøveteori
DESCRIPTION:Kom og øv dig til teoriprøven \nVi laver 2 prøver\, som en kørelærer gennemgår vedr. fejl og spørgsmål
URL:https://xn--kirkebjergkreskole-q4b.dk/kalender/proeveteori-25/2026-02-16/
CATEGORIES:prøveteori
END:VEVENT
BEGIN:VEVENT
DTSTART;TZID=Europe/Copenhagen:20260216T181500
DTEND;TZID=Europe/Copenhagen:20260216T211500
DTSTAMP:20260426T034516
CREATED:20260114T175836Z
LAST-MODIFIED:20260114T175836Z
UID:10000817-1771265700-1771276500@xn--kirkebjergkreskole-q4b.dk
SUMMARY:Teori 8 - Mandagshold
DESCRIPTION:Teori 8 lektion 39\, 40 og 41 (3 x 45 min = 135 min.) \nManøvrer på vej\n7.18 Standsning og parkering\n7.19 Kørsel i mørke og lygtetændingstid i øvrigt\n7.20 Kørsel i tunnel\n7.21 Letbane\nRepetition af tidligere lektioner \nEVALUERENDE TEORIPRØVE
URL:https://xn--kirkebjergkreskole-q4b.dk/kalender/teori-8-mandagshold-25/
CATEGORIES:Teori 8 - mandagshold
END:VEVENT
BEGIN:VEVENT
DTSTART;TZID=Europe/Copenhagen:20260218T181500
DTEND;TZID=Europe/Copenhagen:20260218T211500
DTSTAMP:20260426T034516
CREATED:20260114T173505Z
LAST-MODIFIED:20260114T173505Z
UID:10000718-1771438500-1771449300@xn--kirkebjergkreskole-q4b.dk
SUMMARY:Teori 2- Onsdagshold
DESCRIPTION:Teori 2 lektion 5\, 6\, 7 og 8 (4 x 45= 180 min.) \nKøretøjers manøvre-egenskaber\n3.1  Fartegenskaber\nStyreegenskaber\nFørerens orienteringsvilkår\n3.2  Person- og varebiler. Lastbiler\, herunder busser\nBiler med påhængskøretøj\nTraktorer\, herunder motorredskaber\nMotorcykler og stor knallert (registreringspligtig)\nLille knallert (ikke registreringspligtige) og cykler \nTrafikantadfærd\n4.1  Bilistens vigtigste opgave\nReaktionstiden\nOpfattelses- og reaktionsevnens begrænsning\nForbedring af opfattelses- og reaktionsevnen\nMobiltelefoners indvirken på reaktionsevne\n4.2  Syns- og bevægelsesretning\n4.3  Bedømmelse af afstand\nBedømmelse af egen hastighed\nBedømmelse af andres hastighed\n4.4  Alkohol og Narkotika\nSygdom\, medicin\, træthed\n4.5  Ulykker\, alder og trafikant art\nAldersbetingede vanskeligheder\n4.6  Kendetegn på alder\, opmærksomhed og hensigt\nSærligt udsatte trafikanters typiske fejl\n4.7  Holdninger\nAdfærd\nRisikoblindhed \nVejforhold\n5.1  Vejenes brug\n5.2  Risikoforhold ved vejene \nEVALUERENDE EMNEPRØVE
URL:https://xn--kirkebjergkreskole-q4b.dk/kalender/teori-2-onsdagshold-25/
CATEGORIES:Teori 2 - Onsdagshold
END:VEVENT
BEGIN:VEVENT
DTSTART;TZID=Europe/Copenhagen:20260219T170000
DTEND;TZID=Europe/Copenhagen:20260219T180000
DTSTAMP:20260426T034516
CREATED:20260114T190622Z
LAST-MODIFIED:20260114T191100Z
UID:10000877-1771520400-1771524000@xn--kirkebjergkreskole-q4b.dk
SUMMARY:prøveteori
DESCRIPTION:Kom og øv dig til teoriprøven \nVi laver 2 prøver\, som en kørelærer gennemgår vedr. fejl og spørgsmål
URL:https://xn--kirkebjergkreskole-q4b.dk/kalender/proeveteori-25/2026-02-19/
CATEGORIES:prøveteori
END:VEVENT
BEGIN:VEVENT
DTSTART;TZID=Europe/Copenhagen:20260219T181500
DTEND;TZID=Europe/Copenhagen:20260219T211500
DTSTAMP:20260426T034516
CREATED:20260114T174940Z
LAST-MODIFIED:20260114T174940Z
UID:10000774-1771524900-1771535700@xn--kirkebjergkreskole-q4b.dk
SUMMARY:Teori 5 - Torsdagshold
DESCRIPTION:Teori 5 lektion 24\, 25 og 26 (3 x 45 = 135 min) \nManøvrer på vej\n7.11 Fremkørsel mod vejkryds\n7.12 Ligeud kørsel i vejkryds \nRepetition af tidligere emner \nEVALUERENDE EMNEPRØVE
URL:https://xn--kirkebjergkreskole-q4b.dk/kalender/teori-5-torsdagshold-26/
CATEGORIES:Teori 5 - torsdagshold
END:VEVENT
BEGIN:VEVENT
DTSTART;TZID=Europe/Copenhagen:20260223T170000
DTEND;TZID=Europe/Copenhagen:20260223T180000
DTSTAMP:20260426T034516
CREATED:20260114T180509Z
LAST-MODIFIED:20260114T180509Z
UID:10000850-1771866000-1771869600@xn--kirkebjergkreskole-q4b.dk
SUMMARY:Holdstart - Mandagshold
DESCRIPTION:Holdstart \nIntroduktion af forløb og teorilektion \nHvem er vi og hvad står vi for? \nHvad kræves der for at få et kørekort? \nHvordan arbejder køreskolen? \nTeori: \n10.1 Betingelser for at få kørekort \n10.2 Køreprøvens gennemførelse \n10.3 Lovbestemmelser om kørekort
URL:https://xn--kirkebjergkreskole-q4b.dk/kalender/holdstart-mandagshold-36/
CATEGORIES:Holdstart
END:VEVENT
BEGIN:VEVENT
DTSTART;TZID=Europe/Copenhagen:20260223T181500
DTEND;TZID=Europe/Copenhagen:20260223T211500
DTSTAMP:20260426T034516
CREATED:20260114T180136Z
LAST-MODIFIED:20260114T180136Z
UID:10000832-1771870500-1771881300@xn--kirkebjergkreskole-q4b.dk
SUMMARY:Teori 9 - Mandagshold
DESCRIPTION:Teori 9 lektion 46\, 47 og 48 (3x 45 min = 135 min.) \n8 Særlige risikoforhold i trafikken\n8.1 Særlige risikoforhold (Alkohol\, narkotika og hastighed som ulykkes og skadesfaktor)\n8.2 Egne holdninger og adfærd \n9 Manøvrer på køreteknisk anlæg\n9.1 Vejgreb og belægning\n9.2 Hastighed\, centrifugalkraft\, bremselængde og vejgrebets udnyttelse\n9.3 Hindringer på vejen og slalom\n9.4 Genvinding af vejgreb efter udskridning\n9.5 Bevar herredømmet efter kørsel ud over høj vejkant \n10 Betingelser for at få kørekort\n10.1 Betingelser for at få kørekort. (rep)\n10.2 Køreprøvens gennemførelse\n10.3 Lovbestemmelser om kørekort \nEVALUERENDE TEORIPRØVE
URL:https://xn--kirkebjergkreskole-q4b.dk/kalender/teori-9-mandagshold-24/
CATEGORIES:Teori 9 - mandagshold
END:VEVENT
BEGIN:VEVENT
DTSTART;TZID=Europe/Copenhagen:20260225T181500
DTEND;TZID=Europe/Copenhagen:20260225T211500
DTSTAMP:20260426T034516
CREATED:20260114T173912Z
LAST-MODIFIED:20260114T173912Z
UID:10000740-1772043300-1772054100@xn--kirkebjergkreskole-q4b.dk
SUMMARY:Teori 3 - Onsdagshold
DESCRIPTION:Teori 3 lektion 13\, 14\, 15 og 16 (4 x 45 = 180 min) \nGrundregler for bilkørsel\n6.1  Færdselslovens gyldighed \nAnvisninger for kørslen\n6.2  Passagerer og gods mv.\nMotorstop og slæbning\nFærdselsulykke\nForsikringspligt\nGrundregler for færdslen\nFare\, ulempe og unødig ulempe\nSignalgivning og brug af lys\nFri passage for bestemte trafikarter \nEVALUERENDE EMNEPRØVE \nManøvrer på vej\n7.1  Igangsætning og standsning ved kørebanekant\n7.2  Placering under ligeud kørsel\n7.3  Hastighed under ligeud kørsel\n7.4  Vognbaneskift og sammenfletning\n7.5  Vending
URL:https://xn--kirkebjergkreskole-q4b.dk/kalender/teori-3-onsdagshold-24/
CATEGORIES:Teori 3 - Onsdagshold
END:VEVENT
BEGIN:VEVENT
DTSTART;TZID=Europe/Copenhagen:20260226T170000
DTEND;TZID=Europe/Copenhagen:20260226T180000
DTSTAMP:20260426T034516
CREATED:20260114T190622Z
LAST-MODIFIED:20260114T191100Z
UID:10000878-1772125200-1772128800@xn--kirkebjergkreskole-q4b.dk
SUMMARY:prøveteori
DESCRIPTION:Kom og øv dig til teoriprøven \nVi laver 2 prøver\, som en kørelærer gennemgår vedr. fejl og spørgsmål
URL:https://xn--kirkebjergkreskole-q4b.dk/kalender/proeveteori-25/2026-02-26/
CATEGORIES:prøveteori
END:VEVENT
BEGIN:VEVENT
DTSTART;TZID=Europe/Copenhagen:20260226T181500
DTEND;TZID=Europe/Copenhagen:20260226T211500
DTSTAMP:20260426T034516
CREATED:20260114T175331Z
LAST-MODIFIED:20260114T175331Z
UID:10000788-1772129700-1772140500@xn--kirkebjergkreskole-q4b.dk
SUMMARY:Teori 6 - Torsdagshold
DESCRIPTION:Teori 6 lektion 29\, 30 og 31 (3 x 45 = 135 min) \nManøvrer på vej\n7.11 Fremkørsel mod vejkryds (rep)\n7.12 Ligeud kørsel i vejkryds (rep)\n7.13 Højresving i vejkryds (rep)\n7.14 Venstresving i kryds (rep)\n7.15 Kørsel i rundkørsel \nEVALUERENDE TEORIPRØVE
URL:https://xn--kirkebjergkreskole-q4b.dk/kalender/teori-6-torsdagshold-25/
CATEGORIES:Teori 6 - torsdagshold
END:VEVENT
END:VCALENDAR