BEGIN:VCALENDAR
VERSION:2.0
PRODID:-//Kirkebjerg Køreskole ApS - ECPv6.9.0//NONSGML v1.0//EN
CALSCALE:GREGORIAN
METHOD:PUBLISH
X-WR-CALNAME:Kirkebjerg Køreskole ApS
X-ORIGINAL-URL:https://xn--kirkebjergkreskole-q4b.dk
X-WR-CALDESC:Begivenheder for Kirkebjerg Køreskole ApS
REFRESH-INTERVAL;VALUE=DURATION:PT1H
X-Robots-Tag:noindex
X-PUBLISHED-TTL:PT1H
BEGIN:VTIMEZONE
TZID:Europe/Copenhagen
BEGIN:DAYLIGHT
TZOFFSETFROM:+0100
TZOFFSETTO:+0200
TZNAME:CEST
DTSTART:20220327T010000
END:DAYLIGHT
BEGIN:STANDARD
TZOFFSETFROM:+0200
TZOFFSETTO:+0100
TZNAME:CET
DTSTART:20221030T010000
END:STANDARD
END:VTIMEZONE
BEGIN:VEVENT
DTSTART;TZID=Europe/Copenhagen:20220203T170000
DTEND;TZID=Europe/Copenhagen:20220203T180000
DTSTAMP:20260423T200440
CREATED:20211201T221205Z
LAST-MODIFIED:20211201T221205Z
UID:10000256-1643907600-1643911200@xn--kirkebjergkreskole-q4b.dk
SUMMARY:Prøveteori
DESCRIPTION:
URL:https://xn--kirkebjergkreskole-q4b.dk/kalender/proeveteori-12/2022-02-03/
CATEGORIES:prøveteori
END:VEVENT
BEGIN:VEVENT
DTSTART;TZID=Europe/Copenhagen:20220207T170000
DTEND;TZID=Europe/Copenhagen:20220207T180000
DTSTAMP:20260423T200440
CREATED:20211201T221205Z
LAST-MODIFIED:20211201T221205Z
UID:10000257-1644253200-1644256800@xn--kirkebjergkreskole-q4b.dk
SUMMARY:Prøveteori
DESCRIPTION:
URL:https://xn--kirkebjergkreskole-q4b.dk/kalender/proeveteori-12/2022-02-07/
CATEGORIES:prøveteori
END:VEVENT
BEGIN:VEVENT
DTSTART;TZID=Europe/Copenhagen:20220210T170000
DTEND;TZID=Europe/Copenhagen:20220210T180000
DTSTAMP:20260423T200440
CREATED:20211201T221205Z
LAST-MODIFIED:20211201T221205Z
UID:10000258-1644512400-1644516000@xn--kirkebjergkreskole-q4b.dk
SUMMARY:Prøveteori
DESCRIPTION:
URL:https://xn--kirkebjergkreskole-q4b.dk/kalender/proeveteori-12/2022-02-10/
CATEGORIES:prøveteori
END:VEVENT
BEGIN:VEVENT
DTSTART;TZID=Europe/Copenhagen:20220214T170000
DTEND;TZID=Europe/Copenhagen:20220214T180000
DTSTAMP:20260423T200440
CREATED:20211201T221205Z
LAST-MODIFIED:20211201T221205Z
UID:10000259-1644858000-1644861600@xn--kirkebjergkreskole-q4b.dk
SUMMARY:Prøveteori
DESCRIPTION:
URL:https://xn--kirkebjergkreskole-q4b.dk/kalender/proeveteori-12/2022-02-14/
CATEGORIES:prøveteori
END:VEVENT
BEGIN:VEVENT
DTSTART;TZID=Europe/Copenhagen:20220217T170000
DTEND;TZID=Europe/Copenhagen:20220217T180000
DTSTAMP:20260423T200440
CREATED:20211201T221205Z
LAST-MODIFIED:20211201T221205Z
UID:10000260-1645117200-1645120800@xn--kirkebjergkreskole-q4b.dk
SUMMARY:Prøveteori
DESCRIPTION:
URL:https://xn--kirkebjergkreskole-q4b.dk/kalender/proeveteori-12/2022-02-17/
CATEGORIES:prøveteori
END:VEVENT
BEGIN:VEVENT
DTSTART;TZID=Europe/Copenhagen:20220221T170000
DTEND;TZID=Europe/Copenhagen:20220221T180000
DTSTAMP:20260423T200440
CREATED:20211201T221205Z
LAST-MODIFIED:20211201T221205Z
UID:10000261-1645462800-1645466400@xn--kirkebjergkreskole-q4b.dk
SUMMARY:Prøveteori
DESCRIPTION:
URL:https://xn--kirkebjergkreskole-q4b.dk/kalender/proeveteori-12/2022-02-21/
CATEGORIES:prøveteori
END:VEVENT
BEGIN:VEVENT
DTSTART;TZID=Europe/Copenhagen:20220224T170000
DTEND;TZID=Europe/Copenhagen:20220224T180000
DTSTAMP:20260423T200440
CREATED:20211201T221205Z
LAST-MODIFIED:20211201T221205Z
UID:10000262-1645722000-1645725600@xn--kirkebjergkreskole-q4b.dk
SUMMARY:Prøveteori
DESCRIPTION:
URL:https://xn--kirkebjergkreskole-q4b.dk/kalender/proeveteori-12/2022-02-24/
CATEGORIES:prøveteori
END:VEVENT
END:VCALENDAR