BEGIN:VCALENDAR
VERSION:2.0
PRODID:-//Kirkebjerg Køreskole ApS - ECPv6.9.0//NONSGML v1.0//EN
CALSCALE:GREGORIAN
METHOD:PUBLISH
X-ORIGINAL-URL:https://xn--kirkebjergkreskole-q4b.dk
X-WR-CALDESC:Begivenheder for Kirkebjerg Køreskole ApS
REFRESH-INTERVAL;VALUE=DURATION:PT1H
X-Robots-Tag:noindex
X-PUBLISHED-TTL:PT1H
BEGIN:VTIMEZONE
TZID:Europe/Copenhagen
BEGIN:DAYLIGHT
TZOFFSETFROM:+0100
TZOFFSETTO:+0200
TZNAME:CEST
DTSTART:20220327T010000
END:DAYLIGHT
BEGIN:STANDARD
TZOFFSETFROM:+0200
TZOFFSETTO:+0100
TZNAME:CET
DTSTART:20221030T010000
END:STANDARD
END:VTIMEZONE
BEGIN:VEVENT
DTSTART;TZID=Europe/Copenhagen:20220106T170000
DTEND;TZID=Europe/Copenhagen:20220106T180000
DTSTAMP:20260423T215055
CREATED:20211201T221205Z
LAST-MODIFIED:20211201T221205Z
UID:10000249-1641488400-1641492000@xn--kirkebjergkreskole-q4b.dk
SUMMARY:Prøveteori
DESCRIPTION:
URL:https://xn--kirkebjergkreskole-q4b.dk/kalender/proeveteori-12/2022-01-06/
CATEGORIES:prøveteori
END:VEVENT
BEGIN:VEVENT
DTSTART;TZID=Europe/Copenhagen:20220110T170000
DTEND;TZID=Europe/Copenhagen:20220110T180000
DTSTAMP:20260423T215055
CREATED:20211201T221205Z
LAST-MODIFIED:20211201T221205Z
UID:10000250-1641834000-1641837600@xn--kirkebjergkreskole-q4b.dk
SUMMARY:Prøveteori
DESCRIPTION:
URL:https://xn--kirkebjergkreskole-q4b.dk/kalender/proeveteori-12/2022-01-10/
CATEGORIES:prøveteori
END:VEVENT
BEGIN:VEVENT
DTSTART;TZID=Europe/Copenhagen:20220113T170000
DTEND;TZID=Europe/Copenhagen:20220113T180000
DTSTAMP:20260423T215055
CREATED:20211201T221205Z
LAST-MODIFIED:20211201T221205Z
UID:10000251-1642093200-1642096800@xn--kirkebjergkreskole-q4b.dk
SUMMARY:Prøveteori
DESCRIPTION:
URL:https://xn--kirkebjergkreskole-q4b.dk/kalender/proeveteori-12/2022-01-13/
CATEGORIES:prøveteori
END:VEVENT
BEGIN:VEVENT
DTSTART;TZID=Europe/Copenhagen:20220117T170000
DTEND;TZID=Europe/Copenhagen:20220117T180000
DTSTAMP:20260423T215055
CREATED:20211201T221205Z
LAST-MODIFIED:20211201T221205Z
UID:10000252-1642438800-1642442400@xn--kirkebjergkreskole-q4b.dk
SUMMARY:Prøveteori
DESCRIPTION:
URL:https://xn--kirkebjergkreskole-q4b.dk/kalender/proeveteori-12/2022-01-17/
CATEGORIES:prøveteori
END:VEVENT
BEGIN:VEVENT
DTSTART;TZID=Europe/Copenhagen:20220124T170000
DTEND;TZID=Europe/Copenhagen:20220124T180000
DTSTAMP:20260423T215055
CREATED:20211201T221205Z
LAST-MODIFIED:20211201T221205Z
UID:10000253-1643043600-1643047200@xn--kirkebjergkreskole-q4b.dk
SUMMARY:Prøveteori
DESCRIPTION:
URL:https://xn--kirkebjergkreskole-q4b.dk/kalender/proeveteori-12/2022-01-24/
CATEGORIES:prøveteori
END:VEVENT
BEGIN:VEVENT
DTSTART;TZID=Europe/Copenhagen:20220127T170000
DTEND;TZID=Europe/Copenhagen:20220127T180000
DTSTAMP:20260423T215055
CREATED:20211201T221205Z
LAST-MODIFIED:20211201T221205Z
UID:10000254-1643302800-1643306400@xn--kirkebjergkreskole-q4b.dk
SUMMARY:Prøveteori
DESCRIPTION:
URL:https://xn--kirkebjergkreskole-q4b.dk/kalender/proeveteori-12/2022-01-27/
CATEGORIES:prøveteori
END:VEVENT
BEGIN:VEVENT
DTSTART;TZID=Europe/Copenhagen:20220131T170000
DTEND;TZID=Europe/Copenhagen:20220131T180000
DTSTAMP:20260423T215055
CREATED:20211201T221205Z
LAST-MODIFIED:20211201T221205Z
UID:10000255-1643648400-1643652000@xn--kirkebjergkreskole-q4b.dk
SUMMARY:Prøveteori
DESCRIPTION:
URL:https://xn--kirkebjergkreskole-q4b.dk/kalender/proeveteori-12/2022-01-31/
CATEGORIES:prøveteori
END:VEVENT
END:VCALENDAR