BEGIN:VCALENDAR
VERSION:2.0
PRODID:-//Kirkebjerg Køreskole ApS - ECPv6.9.0//NONSGML v1.0//EN
CALSCALE:GREGORIAN
METHOD:PUBLISH
X-WR-CALNAME:Kirkebjerg Køreskole ApS
X-ORIGINAL-URL:https://xn--kirkebjergkreskole-q4b.dk
X-WR-CALDESC:Begivenheder for Kirkebjerg Køreskole ApS
REFRESH-INTERVAL;VALUE=DURATION:PT1H
X-Robots-Tag:noindex
X-PUBLISHED-TTL:PT1H
BEGIN:VTIMEZONE
TZID:Europe/Copenhagen
BEGIN:DAYLIGHT
TZOFFSETFROM:+0100
TZOFFSETTO:+0200
TZNAME:CEST
DTSTART:20210328T010000
END:DAYLIGHT
BEGIN:STANDARD
TZOFFSETFROM:+0200
TZOFFSETTO:+0100
TZNAME:CET
DTSTART:20211031T010000
END:STANDARD
END:VTIMEZONE
BEGIN:VEVENT
DTSTART;TZID=Europe/Copenhagen:20211202T170000
DTEND;TZID=Europe/Copenhagen:20211202T180000
DTSTAMP:20260423T231451
CREATED:20211104T221858Z
LAST-MODIFIED:20211104T221858Z
UID:10000164-1638464400-1638468000@xn--kirkebjergkreskole-q4b.dk
SUMMARY:Prøveteori
DESCRIPTION:
URL:https://xn--kirkebjergkreskole-q4b.dk/kalender/proeveteori-8/
CATEGORIES:prøveteori
END:VEVENT
BEGIN:VEVENT
DTSTART;TZID=Europe/Copenhagen:20211206T170000
DTEND;TZID=Europe/Copenhagen:20211206T180000
DTSTAMP:20260423T231451
CREATED:20211104T221931Z
LAST-MODIFIED:20211104T221931Z
UID:10000165-1638810000-1638813600@xn--kirkebjergkreskole-q4b.dk
SUMMARY:Prøveteori
DESCRIPTION:
URL:https://xn--kirkebjergkreskole-q4b.dk/kalender/proeveteori-9/
CATEGORIES:prøveteori
END:VEVENT
BEGIN:VEVENT
DTSTART;TZID=Europe/Copenhagen:20211209T170000
DTEND;TZID=Europe/Copenhagen:20211209T180000
DTSTAMP:20260423T231451
CREATED:20211104T222002Z
LAST-MODIFIED:20211104T222002Z
UID:10000166-1639069200-1639072800@xn--kirkebjergkreskole-q4b.dk
SUMMARY:Prøveteori
DESCRIPTION:
URL:https://xn--kirkebjergkreskole-q4b.dk/kalender/proeveteori-10/
CATEGORIES:prøveteori
END:VEVENT
BEGIN:VEVENT
DTSTART;TZID=Europe/Copenhagen:20211216T170000
DTEND;TZID=Europe/Copenhagen:20211216T180000
DTSTAMP:20260423T231451
CREATED:20211104T222031Z
LAST-MODIFIED:20211104T222031Z
UID:10000167-1639674000-1639677600@xn--kirkebjergkreskole-q4b.dk
SUMMARY:Prøveteori
DESCRIPTION:
URL:https://xn--kirkebjergkreskole-q4b.dk/kalender/proeveteori-11/
CATEGORIES:prøveteori
END:VEVENT
END:VCALENDAR