BEGIN:VCALENDAR
VERSION:2.0
PRODID:-//Kirkebjerg Køreskole ApS - ECPv6.9.0//NONSGML v1.0//EN
CALSCALE:GREGORIAN
METHOD:PUBLISH
X-WR-CALNAME:Kirkebjerg Køreskole ApS
X-ORIGINAL-URL:https://xn--kirkebjergkreskole-q4b.dk
X-WR-CALDESC:Begivenheder for Kirkebjerg Køreskole ApS
REFRESH-INTERVAL;VALUE=DURATION:PT1H
X-Robots-Tag:noindex
X-PUBLISHED-TTL:PT1H
BEGIN:VTIMEZONE
TZID:Europe/Copenhagen
BEGIN:DAYLIGHT
TZOFFSETFROM:+0100
TZOFFSETTO:+0200
TZNAME:CEST
DTSTART:20210328T010000
END:DAYLIGHT
BEGIN:STANDARD
TZOFFSETFROM:+0200
TZOFFSETTO:+0100
TZNAME:CET
DTSTART:20211031T010000
END:STANDARD
END:VTIMEZONE
BEGIN:VEVENT
DTSTART;TZID=Europe/Copenhagen:20211108T170000
DTEND;TZID=Europe/Copenhagen:20211108T180000
DTSTAMP:20260424T005940
CREATED:20211104T221510Z
LAST-MODIFIED:20211104T221510Z
UID:10000157-1636390800-1636394400@xn--kirkebjergkreskole-q4b.dk
SUMMARY:Prøveteori
DESCRIPTION:
URL:https://xn--kirkebjergkreskole-q4b.dk/kalender/proeveteori/
CATEGORIES:prøveteori
END:VEVENT
BEGIN:VEVENT
DTSTART;TZID=Europe/Copenhagen:20211111T170000
DTEND;TZID=Europe/Copenhagen:20211111T180000
DTSTAMP:20260424T005940
CREATED:20211104T221542Z
LAST-MODIFIED:20211104T221542Z
UID:10000158-1636650000-1636653600@xn--kirkebjergkreskole-q4b.dk
SUMMARY:Prøveteori
DESCRIPTION:
URL:https://xn--kirkebjergkreskole-q4b.dk/kalender/proeveteori-2/
CATEGORIES:prøveteori
END:VEVENT
BEGIN:VEVENT
DTSTART;TZID=Europe/Copenhagen:20211115T170000
DTEND;TZID=Europe/Copenhagen:20211115T180000
DTSTAMP:20260424T005940
CREATED:20211104T221654Z
LAST-MODIFIED:20211104T221654Z
UID:10000159-1636995600-1636999200@xn--kirkebjergkreskole-q4b.dk
SUMMARY:Prøveteori
DESCRIPTION:
URL:https://xn--kirkebjergkreskole-q4b.dk/kalender/proeveteori-3/
CATEGORIES:prøveteori
END:VEVENT
BEGIN:VEVENT
DTSTART;TZID=Europe/Copenhagen:20211118T170000
DTEND;TZID=Europe/Copenhagen:20211118T180000
DTSTAMP:20260424T005940
CREATED:20211104T221715Z
LAST-MODIFIED:20211104T221715Z
UID:10000160-1637254800-1637258400@xn--kirkebjergkreskole-q4b.dk
SUMMARY:Prøveteori
DESCRIPTION:
URL:https://xn--kirkebjergkreskole-q4b.dk/kalender/proeveteori-4/
CATEGORIES:prøveteori
END:VEVENT
BEGIN:VEVENT
DTSTART;TZID=Europe/Copenhagen:20211122T170000
DTEND;TZID=Europe/Copenhagen:20211122T180000
DTSTAMP:20260424T005941
CREATED:20211104T221737Z
LAST-MODIFIED:20211104T221737Z
UID:10000161-1637600400-1637604000@xn--kirkebjergkreskole-q4b.dk
SUMMARY:Prøveteori
DESCRIPTION:
URL:https://xn--kirkebjergkreskole-q4b.dk/kalender/proeveteori-5/
CATEGORIES:prøveteori
END:VEVENT
BEGIN:VEVENT
DTSTART;TZID=Europe/Copenhagen:20211125T170000
DTEND;TZID=Europe/Copenhagen:20211125T180000
DTSTAMP:20260424T005941
CREATED:20211104T221806Z
LAST-MODIFIED:20211104T221806Z
UID:10000162-1637859600-1637863200@xn--kirkebjergkreskole-q4b.dk
SUMMARY:Prøveteori
DESCRIPTION:
URL:https://xn--kirkebjergkreskole-q4b.dk/kalender/proeveteori-6/
CATEGORIES:prøveteori
END:VEVENT
BEGIN:VEVENT
DTSTART;TZID=Europe/Copenhagen:20211129T170000
DTEND;TZID=Europe/Copenhagen:20211129T180000
DTSTAMP:20260424T005941
CREATED:20211104T221830Z
LAST-MODIFIED:20211104T221830Z
UID:10000163-1638205200-1638208800@xn--kirkebjergkreskole-q4b.dk
SUMMARY:Prøveteori
DESCRIPTION:
URL:https://xn--kirkebjergkreskole-q4b.dk/kalender/proeveteori-7/
CATEGORIES:prøveteori
END:VEVENT
END:VCALENDAR